BEGIN:VCALENDAR
VERSION:2.0
PRODID:-//wp-events-plugin.com//7.2.3.1//EN
TZID:Europe/Paris
X-WR-TIMEZONE:Europe/Paris
BEGIN:VEVENT
UID:128@nectar-vibratoire.fr
DTSTART;TZID=Europe/Paris:20251001T173000
DTEND;TZID=Europe/Paris:20251001T190000
DTSTAMP:20251003T175948Z
URL:https://nectar-vibratoire.fr/events/3669/
SUMMARY:Atelier Chant diphonique à St Mathieu
DESCRIPTION:Bonjour belles personnes.\nMon animation intervient dans le cad
 re des propositions de l’Association Culture en Tête\, présidée par
  madame Marianne TIXEUIL.\nJe suis tout excité de vous retrouver. En vous
  remerciant encore pour la confiance que vous m’accordez\, l'atelier de 
 reprise se tiendra le mercredi 1er octobre en Mairie \, à l’étage. Ce
 tte séance débute à 17h30 pour se finir vers 19 h. Vous y serez accueil
 li(e)s dès 17h20.\nPrévoyez de quoi vous hydrater.\nVotre valorisation e
 st libre.\nParlez-en autour de vous !\nÀ l'immense plaisir de diphoner en
 semble.\nÏéronimous
CATEGORIES:Atelier collectif de chant diphonique
END:VEVENT
BEGIN:VTIMEZONE
TZID:Europe/Paris
X-LIC-LOCATION:Europe/Paris
BEGIN:DAYLIGHT
DTSTART:20250330T030000
TZOFFSETFROM:+0100
TZOFFSETTO:+0200
TZNAME:CEST
END:DAYLIGHT
END:VTIMEZONE
END:VCALENDAR