BEGIN:VCALENDAR
VERSION:2.0
PRODID:-//wp-events-plugin.com//7.2.3.1//EN
TZID:Europe/Paris
X-WR-TIMEZONE:Europe/Paris
BEGIN:VEVENT
UID:78@nectar-vibratoire.fr
DTSTART;TZID=Europe/Paris:20250121T170000
DTEND;TZID=Europe/Paris:20250121T183000
DTSTAMP:20250120T114956Z
URL:https://nectar-vibratoire.fr/events/atelier-de-chant-diphonique-a-nont
 ron-le-22-janvier-2025/
SUMMARY:Atelier de Chant Diphonique à NONTRON \, le 21 janvier 2025
DESCRIPTION:Belles personnes\,\nJe vous propose de vous accompagner pour d
 écouvrir vos "Sons de Pouvoir".\nLe Chant Diphonique consiste à produire
  deux sons simultanément\, à extraire et magnifier\, voire moduler une h
 armonique générée par une note fondamentale ou bourdon.\nVenez explorez
  durant cet atelier votre topographie sonore\, dans le jeu\, vous émervei
 ller de ce que votre voix recèle et en ressentir\, dans l'écoute à vous
 -même\, les profonds bienfaits.\nMis à part l'envie de se faire du bien 
 et de s'amuser\, quel autre prérequis ... ?\nRejoignons-nous dès 16h50\,
  le mardi 21 janvier\,  au Dojo de NONTRON. Dernière séance en ce lieu\
 , la prochaine est accueillie par l'association Atlas24\, place de la Mair
 ie.\nPrévoyez de quoi vous hydrater.\nVotre valorisation est libre.\nParl
 ez-en autour de vous !\nBien coeurdialement.\nÏéronimous\nMes remercieme
 nts à l'Association Energie\, Vie\, Equilibre.\nVotre valorisation est li
 bre et souple.  Sachez que je suis ravi de vous offrir votre séance de d
 écouverte.\nAu plaisir de diphoner ensemble !\nÏéronimous
ATTACH;FMTTYPE=image/jpeg:https://nectar-vibratoire.fr/wp-content/uploads/
 2022/05/Harmonik-bird.jpg
CATEGORIES:Atelier collectif de chant diphonique
END:VEVENT
BEGIN:VTIMEZONE
TZID:Europe/Paris
X-LIC-LOCATION:Europe/Paris
BEGIN:STANDARD
DTSTART:20241027T020000
TZOFFSETFROM:+0200
TZOFFSETTO:+0100
TZNAME:CET
END:STANDARD
END:VTIMEZONE
END:VCALENDAR