BEGIN:VCALENDAR
VERSION:2.0
PRODID:-//wp-events-plugin.com//7.2.3.1//EN
TZID:Europe/Paris
X-WR-TIMEZONE:Europe/Paris
BEGIN:VEVENT
UID:132@nectar-vibratoire.fr
DTSTART;TZID=Europe/Paris:20251015T173000
DTEND;TZID=Europe/Paris:20251015T190000
DTSTAMP:20251003T200143Z
URL:https://nectar-vibratoire.fr/events/atelier-de-chant-diphonique-st-mat
 hieu-le-15-octobre-2025/
SUMMARY:Atelier de Chant Diphonique St Mathieu le 15 octobre 2025
DESCRIPTION:Bonjour belles personnes.\nMon animation intervient dans le cad
 re des propositions de l’Association Culture en Tête\, présidée par 
 madame Marianne TIXEUIL.\nEn vous remerciant encore pour la confiance que 
 vous m'accordez\, un prochain atelier  se tiendra le mercredi 15 octobre
  en Mairie \, à l'étage. Cette séance débute à 17h30 pour se finir v
 ers 19 h. Vous y serez accueilli(e)s dès 17h20.\nPrévoyez de quoi vous h
 ydrater.\nVotre valorisation est libre.\nParlez-en autour de vous !\nBien 
 coeurdialement.\nÏéronimous
ATTACH;FMTTYPE=image/jpeg:https://nectar-vibratoire.fr/wp-content/uploads/
 2023/01/overtuning-fishes-1.jpg
CATEGORIES:Atelier collectif de chant diphonique
END:VEVENT
BEGIN:VTIMEZONE
TZID:Europe/Paris
X-LIC-LOCATION:Europe/Paris
BEGIN:DAYLIGHT
DTSTART:20250330T030000
TZOFFSETFROM:+0100
TZOFFSETTO:+0200
TZNAME:CEST
END:DAYLIGHT
END:VTIMEZONE
END:VCALENDAR