BEGIN:VCALENDAR
VERSION:2.0
PRODID:-//wp-events-plugin.com//7.2.3.1//EN
TZID:Europe/Paris
X-WR-TIMEZONE:Europe/Paris
BEGIN:VEVENT
UID:144@nectar-vibratoire.fr
DTSTART;TZID=Europe/Paris:20251217T173000
DTEND;TZID=Europe/Paris:20251217T190000
DTSTAMP:20251102T125613Z
URL:https://nectar-vibratoire.fr/events/atelier-de-chant-diphonique-st-mat
 hieu-le-17-decembre-2025/
SUMMARY:Atelier de Chant Diphonique St Mathieu le 17 décembre 2025
DESCRIPTION:Bonjour belles personnes.\nMon animation intervient dans le cad
 re des propositions de l’Association Culture en Tête\, présidée par 
 madame Marianne TIXEUIL.\nEn vous remerciant encore pour la confiance que 
 vous m'accordez\, un prochain atelier  se tiendra le mercredi 17 décembr
 e en Mairie \, à l'étage. Cette séance débute à 17h30 pour se finir 
 vers 19 h. Vous y serez accueilli(e)s dès 17h20.\nPrévoyez de quoi vous 
 hydrater.\nVotre valorisation est libre.\nParlez-en autour de vous !\nBien
  coeurdialement.\nÏéronimous
ATTACH;FMTTYPE=image/jpeg:https://nectar-vibratoire.fr/wp-content/uploads/
 2023/01/overtuning-fishes-1.jpg
CATEGORIES:Atelier collectif de chant diphonique
END:VEVENT
BEGIN:VTIMEZONE
TZID:Europe/Paris
X-LIC-LOCATION:Europe/Paris
BEGIN:STANDARD
DTSTART:20251026T020000
TZOFFSETFROM:+0200
TZOFFSETTO:+0100
TZNAME:CET
END:STANDARD
END:VTIMEZONE
END:VCALENDAR