BEGIN:VCALENDAR
VERSION:2.0
PRODID:-//wp-events-plugin.com//7.2.3.1//EN
TZID:Europe/Paris
X-WR-TIMEZONE:Europe/Paris
BEGIN:VEVENT
UID:170@nectar-vibratoire.fr
DTSTART;TZID=Europe/Paris:20260429T173000
DTEND;TZID=Europe/Paris:20260429T190000
DTSTAMP:20260328T202114Z
URL:https://nectar-vibratoire.fr/events/atelier-de-chant-diphonique-st-mat
 hieu-le-29-avril-2026/
SUMMARY:Atelier de Chant Diphonique St Mathieu le 29 AVRIL  2026
DESCRIPTION:Bonjour belles personnes.\nMon animation intervient dans le cad
 re des propositions de l’Association Culture en Tête\, présidée par 
 madame Marianne TIXEUIL.\nEn vous remerciant encore pour la confiance que 
 vous m'accordez\, un prochain atelier  se tiendra le mercredi 29 avril e
 n Mairie \, à l'étage. Cette séance débute à 17h30 pour se finir vers
  19 h. Vous y serez accueilli(e)s dès 17h20.\nPrévoyez de quoi vous hydr
 ater.\nVotre valorisation est libre.\nParlez-en autour de vous !\nBien coe
 urdialement.\nÏéronimous
ATTACH;FMTTYPE=image/jpeg:https://nectar-vibratoire.fr/wp-content/uploads/
 2023/01/overtuning-fishes-1.jpg
CATEGORIES:Atelier collectif de chant diphonique
END:VEVENT
BEGIN:VTIMEZONE
TZID:Europe/Paris
X-LIC-LOCATION:Europe/Paris
BEGIN:DAYLIGHT
DTSTART:20260329T030000
TZOFFSETFROM:+0100
TZOFFSETTO:+0200
TZNAME:CEST
END:DAYLIGHT
END:VTIMEZONE
END:VCALENDAR