BEGIN:VCALENDAR
VERSION:2.0
PRODID:-//wp-events-plugin.com//7.2.3.1//EN
TZID:Europe/Paris
X-WR-TIMEZONE:Europe/Paris
BEGIN:VEVENT
UID:129@nectar-vibratoire.fr
DTSTART;TZID=Europe/Paris:20250927T170000
DTEND;TZID=Europe/Paris:20250927T183000
DTSTAMP:20251003T190127Z
URL:https://nectar-vibratoire.fr/events/bain-soinore-a-autry-issard-samedi
 -27-09/
SUMMARY:Bain Soinore © à Autry Issard\, samedi 27 /09
DESCRIPTION:Belles personnes\,\nJe suis ravi de venir offrir mes fréquence
 s\, au sein du bocage bourbonnais\, le samedi 27 septembre à 17h.\nJe vou
 s accueillerai dans l'église d'Autry Issard\, proche de Bourbon l'Archamb
 aud.\nJe remercie la paroisse pour sa bienveillance et mes amis\, Dominiqu
 e et Sylvain ANDRIEU pour leur généreux accueil et toute la belle énerg
 ie déployée pour faire de cet évènement une belle réussite.\nVotre va
 lorisation est libre.\nChaleureusement.\nÏéronimous\n06 85 92 38 91
ATTACH;FMTTYPE=image/jpeg:https://nectar-vibratoire.fr/wp-content/uploads/
 2025/10/EH-Issard-Autry-2025-09-27-pdf.jpg
CATEGORIES:Exposition Harmoniques
END:VEVENT
BEGIN:VTIMEZONE
TZID:Europe/Paris
X-LIC-LOCATION:Europe/Paris
BEGIN:DAYLIGHT
DTSTART:20250330T030000
TZOFFSETFROM:+0100
TZOFFSETTO:+0200
TZNAME:CEST
END:DAYLIGHT
END:VTIMEZONE
END:VCALENDAR