BEGIN:VCALENDAR
VERSION:2.0
PRODID:-//wp-events-plugin.com//7.2.3.1//EN
TZID:Europe/Paris
X-WR-TIMEZONE:Europe/Paris
BEGIN:VEVENT
UID:130@nectar-vibratoire.fr
DTSTART;TZID=Europe/Paris:20251012T120000
DTEND;TZID=Europe/Paris:20251012T130000
DTSTAMP:20251003T195219Z
URL:https://nectar-vibratoire.fr/events/bain-soinore-initiation-diphonique
 -a-champniers-et-reilhac-24/
SUMMARY:Bain Soinore© & initiation diphonique à Champniers-et-Reilhac (24
 )
DESCRIPTION:Belles personnes\,\nJ'ai l'immense joie de me joindre à l'init
 iative portée par l'Association Happy Culture.\nLors de son forum des ass
 ociations à Champniers et Reilhac le dimanche 12 octobre.\nJ'interviens d
 ès 12 h avec une proposition de bain soinore © suivie d'une initiation a
 u chant diphonique.\nVenez nombreu(x)ses et enjoué(e)s ! À partager sans
  retenue !\nFree !  Gratuit !!!\nChaleureusement.\nÏéronimous
ATTACH;FMTTYPE=image/jpeg:https://nectar-vibratoire.fr/wp-content/uploads/
 2025/10/E-H-Animation-2025-10-12-Champniers.jpg
CATEGORIES:Exposition Harmoniques
END:VEVENT
BEGIN:VTIMEZONE
TZID:Europe/Paris
X-LIC-LOCATION:Europe/Paris
BEGIN:DAYLIGHT
DTSTART:20250330T030000
TZOFFSETFROM:+0100
TZOFFSETTO:+0200
TZNAME:CEST
END:DAYLIGHT
END:VTIMEZONE
END:VCALENDAR