BEGIN:VCALENDAR
VERSION:2.0
PRODID:-//wp-events-plugin.com//7.2.3.1//EN
TZID:Europe/Paris
X-WR-TIMEZONE:Europe/Paris
BEGIN:VEVENT
UID:26@nectar-vibratoire.fr
DTSTART;TZID=Europe/Paris:20230728T194500
DTEND;TZID=Europe/Paris:20230728T211500
DTSTAMP:20230622T124639Z
URL:https://nectar-vibratoire.fr/events/bain-sonore-le-28-juillet-a-st-ant
 oine-de-breuilh/
SUMMARY:Bain sonore le 28 juillet à St Antoine de Breuilh
DESCRIPTION:Un bain sonore est une expérience à découvrir..! Chacun(e) e
 n sortira avec ses ressentis particuliers\, mais aucun(e) en ressortira in
 demne. Une transformation subtile sera à l'oeuvre et une fine écoute de 
 Soi saura l'observer et l'apprécier. Personne ne peut présumer de la pui
 ssance de celle-ci.\nCette immersion sonore sera produite uniquement par m
 a voix\, par mes harmoniques. Vous assisterez à une performance vibratoir
 e spontanée\, unique et naturellement adaptée au moment et à l'auditoir
 e.\nVous pouvez aussi prévoir un tapis de sol pour vous allonger et de qu
 oi être confortablement installé(e).(plaid\, éventuellement un petit co
 ussin et un masque occultant..)\nCôté finance\, rien n'est dû\, ce sera
  votre gratitude ressentie qui vous indiquera\, le plus justement et libre
 ment\, comment valoriser ce moment passé ensemble.\nAu plaisir de vous ac
 cueillir.\nCoeurdialement\nÏéronimous
ATTACH;FMTTYPE=image/jpeg:https://nectar-vibratoire.fr/wp-content/uploads/
 2023/06/Flyer-Bain-SonoreSt-Antoine-de-Breuilh-2023-07-28-pdf.jpg
CATEGORIES:Exposition Harmoniques
END:VEVENT
BEGIN:VTIMEZONE
TZID:Europe/Paris
X-LIC-LOCATION:Europe/Paris
BEGIN:DAYLIGHT
DTSTART:20230326T030000
TZOFFSETFROM:+0100
TZOFFSETTO:+0200
TZNAME:CEST
END:DAYLIGHT
END:VTIMEZONE
END:VCALENDAR