BEGIN:VCALENDAR
VERSION:2.0
PRODID:-//wp-events-plugin.com//7.2.3.1//EN
TZID:Europe/Paris
X-WR-TIMEZONE:Europe/Paris
BEGIN:VEVENT
UID:175@nectar-vibratoire.fr
DTSTART;TZID=Europe/Paris:20260418T154500
DTEND;TZID=Europe/Paris:20260418T171500
DTSTAMP:20260420T071651Z
URL:https://nectar-vibratoire.fr/events/cercle-sonore-le-samedi-18-avril-a
 -reilhac/
SUMMARY:Cercle Sonore le SAMEDI 18 AVRIL à Reilhac (24)
DESCRIPTION:L'objet principal de notre Cercle Sonore est de se rassembler l
 e plus largement possible pour offrir au vivant nos Sons de Pouvoir\, dans
  un massage vibratoire mutuel. Il s'agit de séquence d'une heure comprena
 nt: une légère préparation\, notre production collective bien plus long
 ue que lors des ateliers\, le temps d'intégration et avant de nous quitte
 r\, sans caractère obligatoire\, clôturer ce partage en grignotant et av
 ec une boisson.\nRetrouvons nous le samedi 18  avril dès 15h45\, église
  Saint-Paul de REILHAC\nIl n'est demandé aucune valorisation financière 
 pour participer à cet évènement\, ta présence est en soi\, l'offrande 
 la plus précieuse.\nJe rappelle mon numéro de portable si besoin : 06 85
  92 38 91\nAu plaisir de Sonner ensemble !\nChaleureusement.\nÏéronimous
 \n Il est évident que nos cercles sonores se suivent mais ne se ressembl
 ent pas\, et je suis particulièrement heureux de vous partager ma joie et
  ma fierté de la qualité grandissante de nos expressions sonores spontan
 ées. Les ressentis respectifs sont ce qu'ils sont\, pour ma part\, je me 
 sens encore nourri\, en me reconnectant à Soi\, dès que ce parfum se rep
 résente.\n\nCe moment passé au soleil sur l'herbe était délicieux\, au
  sens propre et figuré\, Merci !\n\nRecevez ma profonde gratitude.\nNotre
  production avec les bols de cristal\n[audio ogg="https://nectar-vibratoir
 e.fr/wp-content/uploads/2026/04/2026-04-18-Cercle-Sonore-Reilhac-A.ogg"][/
 audio]\n\n&nbsp\;\nNotre production avec Habi et sans les bols de cristal.
 \n[audio ogg="https://nectar-vibratoire.fr/wp-content/uploads/2026/04/2026
 -04-18-Cercle-Sonore-Reilhac-B.ogg"][/audio]
ATTACH;FMTTYPE=image/jpeg:https://nectar-vibratoire.fr/wp-content/uploads/
 2025/04/GaiaCoeur.jpg
CATEGORIES:Cercle Sonore
END:VEVENT
BEGIN:VTIMEZONE
TZID:Europe/Paris
X-LIC-LOCATION:Europe/Paris
BEGIN:DAYLIGHT
DTSTART:20260329T030000
TZOFFSETFROM:+0100
TZOFFSETTO:+0200
TZNAME:CEST
END:DAYLIGHT
END:VTIMEZONE
END:VCALENDAR