BEGIN:VCALENDAR
VERSION:2.0
PRODID:-//wp-events-plugin.com//7.2.3.1//EN
TZID:Europe/Paris
X-WR-TIMEZONE:Europe/Paris
BEGIN:VEVENT
UID:73@nectar-vibratoire.fr
DTSTART;TZID=Europe/Paris:20241224T154500
DTEND;TZID=Europe/Paris:20241224T173000
DTSTAMP:20241213T213820Z
URL:https://nectar-vibratoire.fr/events/diphonie-en-leglise-de-biennac/
SUMMARY:Exposition Harmoniques proposée la veille de Noël en l'Église de
  BIENNAC (87)
DESCRIPTION:BAIN SOiNORE© et Chant Diphonique
ATTACH;FMTTYPE=image/jpeg:https://nectar-vibratoire.fr/wp-content/uploads/
 2024/12/images1.jpg
CATEGORIES:Exposition Harmoniques
END:VEVENT
BEGIN:VTIMEZONE
TZID:Europe/Paris
X-LIC-LOCATION:Europe/Paris
BEGIN:STANDARD
DTSTART:20241027T020000
TZOFFSETFROM:+0200
TZOFFSETTO:+0100
TZNAME:CET
END:STANDARD
END:VTIMEZONE
END:VCALENDAR