BEGIN:VCALENDAR
VERSION:2.0
PRODID:-//wp-events-plugin.com//7.2.3.1//EN
TZID:Europe/Paris
X-WR-TIMEZONE:Europe/Paris
BEGIN:VEVENT
UID:54@nectar-vibratoire.fr
DTSTART;TZID=Europe/Paris:20240622T170000
DTEND;TZID=Europe/Paris:20240622T183000
DTSTAMP:20240611T134709Z
URL:https://nectar-vibratoire.fr/events/exposition-harmoniques-eglise-sain
 t-sauveur-a-rochechouart-le-22-juin/
SUMMARY:Exposition Harmoniques église Saint-Sauveur à Rochechouart le 22 
 juin.
DESCRIPTION:Bain sonore en l'église Saint-Sauveur de Rochechouart le 22 ju
 in 2024 à 17h
ATTACH;FMTTYPE=image/jpeg:https://nectar-vibratoire.fr/wp-content/uploads/
 2024/06/2024-06-22-EH-eglise-Saint-Sauveur-Rochechouart.jpg
CATEGORIES:Exposition Harmoniques
END:VEVENT
BEGIN:VTIMEZONE
TZID:Europe/Paris
X-LIC-LOCATION:Europe/Paris
BEGIN:DAYLIGHT
DTSTART:20240331T030000
TZOFFSETFROM:+0100
TZOFFSETTO:+0200
TZNAME:CEST
END:DAYLIGHT
END:VTIMEZONE
END:VCALENDAR