BEGIN:VCALENDAR
VERSION:2.0
PRODID:-//wp-events-plugin.com//7.2.3.1//EN
TZID:Europe/Paris
X-WR-TIMEZONE:Europe/Paris
BEGIN:VEVENT
UID:8@nectar-vibratoire.fr
DTSTART;TZID=Europe/Paris:20221008T100000
DTEND;TZID=Europe/Paris:20221008T173000
DTSTAMP:20221009T132343Z
URL:https://nectar-vibratoire.fr/events/journee-de-pratique-de-chant-dipho
 nique-le-8-octobre-a-port-ste-foy/
SUMMARY:Journée de pratique de Chant Diphonique le 8 octobre à Port Ste F
 oy.
DESCRIPTION:Soyez les bienvenu-e-s pour cette proposition autour de nos Son
 s de Pouvoir.\n\n\n\nLe déroulement de la journée sera comme suit :\n\nL
 a  matinée\, de 10h00 à 11h30\, est l'espace de la découverte de notre
  potentiel sonore\, mais aussi de l'exploration en continuité d'une initi
 ation...\n\nQuant à l'après-midi\, de 14h30 à 17h30\, cet espace est da
 vantage dédié aux personnes ayant suivi un stage d'initiation avec moi\,
  mais j'aurais plaisir à l'ouvrir aux enthousiasmé(e)s de la matinée.\n
 \n\n\nSur la question de votre participation financière\, rendez-vous sur
  cette page\, au chapitre "Tarifs des Animations"... https://nectar-vibrat
 oire.fr/apprendre-le-chant-diphonique/\n\nMartine\, notre hôtesse\, enreg
 istrera votre réservation.\n\nN'hésitez pas à nous contacter pour tous 
 types d'informations dont vous auriez besoin.\n\nÀ la joie de diphoner en
 semble.\n\nBien coeudialement.\n\nÏéronimous\, votre humble résonnateur
 .\n\nGratitude pour ces massage et voyage partagés !\n\n[audio mp3="https
 ://nectar-vibratoire.fr/wp-content/uploads/2022/09/2022-10-08-Recreation-8
 -Cedre-Indigo.mp3"][/audio]\n\n&nbsp\;
ATTACH;FMTTYPE=image/jpeg:https://nectar-vibratoire.fr/wp-content/uploads/
 2022/09/Flyer-Atelier-Cedre-Indigo-2022-10-08.jpg
CATEGORIES:Atelier collectif de chant diphonique
END:VEVENT
BEGIN:VTIMEZONE
TZID:Europe/Paris
X-LIC-LOCATION:Europe/Paris
BEGIN:DAYLIGHT
DTSTART:20220327T030000
TZOFFSETFROM:+0100
TZOFFSETTO:+0200
TZNAME:CEST
END:DAYLIGHT
END:VTIMEZONE
END:VCALENDAR