BEGIN:VCALENDAR
VERSION:2.0
PRODID:-//wp-events-plugin.com//7.2.3.1//EN
TZID:Europe/Paris
X-WR-TIMEZONE:Europe/Paris
BEGIN:VEVENT
UID:126@nectar-vibratoire.fr
DTSTART;TZID=Europe/Paris:20250701T200000
DTEND;TZID=Europe/Paris:20250701T213000
DTSTAMP:20250702T201535Z
URL:https://nectar-vibratoire.fr/events/last-repete-representation/
SUMMARY:Last repete représentation
DESCRIPTION:[audio ogg="https://nectar-vibratoire.fr/wp-content/uploads/202
 5/07/2025-07-01-Repetition-St-Estephe.ogg"][/audio]
END:VEVENT
BEGIN:VTIMEZONE
TZID:Europe/Paris
X-LIC-LOCATION:Europe/Paris
BEGIN:DAYLIGHT
DTSTART:20250330T030000
TZOFFSETFROM:+0100
TZOFFSETTO:+0200
TZNAME:CEST
END:DAYLIGHT
END:VTIMEZONE
END:VCALENDAR