BEGIN:VCALENDAR
VERSION:2.0
PRODID:-//wp-events-plugin.com//7.2.3.1//EN
TZID:Europe/Paris
X-WR-TIMEZONE:Europe/Paris
BEGIN:VEVENT
UID:115@nectar-vibratoire.fr
DTSTART;TZID=Europe/Paris:20250509T183000
DTEND;TZID=Europe/Paris:20250509T200000
DTSTAMP:20250416T211751Z
URL:https://nectar-vibratoire.fr/events/rejoignez-moi-pour-un-bain-soinore
 -le-9-mai-en-leglise-du-carla-a-castelnau-de-levis-81/
SUMMARY:Rejoignez-moi pour un Bain Soinore ©\, le 9 mai\, à Terre d'Allia
 nce à Castelnau de Levis (81)
DESCRIPTION:Belles personnes\,\nAccueilli par l'association Terre d'Allianc
 e \, à Jussens sur la commune de Castelnau de Levis\, j'ai l'immense plai
 sir de vous annoncer la tenue d'une performance sonore à partir de 18h30.
 \nJe pratique depuis une vingtaine d’année un art vocal connu sous le t
 erme de « Chant Diphonique ». J’ai plaisir à orner le monde de mes 
 sons\, que je prodigue comme une offrande au vivant.\nVous êtes invités 
 à une performance originale et spontanée que je réalise seul\, juste av
 ec ma voix. Je l’ai intitulé « Exposition Harmoniques ».\nVous y fere
 z l'expérience de la profondeur du Chant Diphonique.\nL’ensemble de vos
  corps recevra un profond massage vibratoire tout du long de cette complè
 te immersion sonore\, bienfaisante\, favorisant une profonde détente et u
 ne intériorisation.\nJe vous laisse dans la fraîcheur de la découverte 
 mais\, à son issue\, ne vous attendez pas à être la même personne\, in
 demne... Quelque chose aura été touché et une subtile transformation se
 ra à l’œuvre. Soyez à votre écoute !\nJ'adresse ici toute ma gratit
 ude à l'association Terre d'Alliance\, pour son accueil bienveillant.\nVo
 tre valorisation de cette performance est libre.\nRejoignez-moi ! Ne vous 
 privez pas de cette singulière expérience bienfaisante. Je vous remercie
  de  partager largement l'information.\nÀ très bientôt.\nBien coeurdia
 lement.\nÏéronimous\, votre humble résonateur
ATTACH;FMTTYPE=image/jpeg:https://nectar-vibratoire.fr/wp-content/uploads/
 2025/01/Gloup-onde.jpg
CATEGORIES:Exposition Harmoniques
END:VEVENT
BEGIN:VTIMEZONE
TZID:Europe/Paris
X-LIC-LOCATION:Europe/Paris
BEGIN:DAYLIGHT
DTSTART:20250330T030000
TZOFFSETFROM:+0100
TZOFFSETTO:+0200
TZNAME:CEST
END:DAYLIGHT
END:VTIMEZONE
END:VCALENDAR