BEGIN:VCALENDAR
VERSION:2.0
PRODID:-//wp-events-plugin.com//7.2.3.1//EN
TZID:Europe/Paris
X-WR-TIMEZONE:Europe/Paris
BEGIN:VEVENT
UID:59@nectar-vibratoire.fr
DTSTART;TZID=Europe/Paris:20240918T173000
DTEND;TZID=Europe/Paris:20240918T190000
DTSTAMP:20240909T130001Z
URL:https://nectar-vibratoire.fr/events/reprise-des-ateliers-diphoniques-a
 -saint-mathieu/
SUMMARY:Reprise des Ateliers Diphoniques à Saint Mathieu
DESCRIPTION:Belles personnes\, bonjour !\nAyant chanté tout l'été\, ense
 mble\, nous allons joyeusement continuer toute cette nouvelle saison duran
 t !\nC'est dans l'écrin de l'association Culture en Tête que je suis rav
 i de vous informer de la reprise de mes animation d'ateliers de Chant Diph
 onique.\nNous nous retrouverons donc le mercredi 18 septembre à 17 h30\, 
 dans la salle située à l'étage de la Mairie de Saint-Mathieu. Je remerc
 ie vivement la municipalité pour cette mise à disposition.\nJoignez-vous
  à nous\, enthousiastes\, avec l'envie de vous amuser dans l'exploration 
 de votre topographie sonore. Des merveilles vous seront révélées\, ravi
 ssant et nourrissant votre enfant intérieur. Enjoy !!!\nLa séance de dé
 couverte est offerte. Si vous avez le souhait de fréquenter mes ateliers\
 , le montant d'une modeste adhésion à l'association vous sera demandée.
  Quant à votre valorisation financière\, elle est libre.\nÀ la joie de 
 sonner ensemble\, à très vite !\nCoeurdialement.\nÏéronimous\n&nbsp\;
ATTACH;FMTTYPE=image/jpeg:https://nectar-vibratoire.fr/wp-content/uploads/
 2022/05/istockphoto-638958768-612x612-1.jpg
CATEGORIES:Atelier collectif de chant diphonique
END:VEVENT
BEGIN:VTIMEZONE
TZID:Europe/Paris
X-LIC-LOCATION:Europe/Paris
BEGIN:DAYLIGHT
DTSTART:20240331T030000
TZOFFSETFROM:+0100
TZOFFSETTO:+0200
TZNAME:CEST
END:DAYLIGHT
END:VTIMEZONE
END:VCALENDAR