BEGIN:VCALENDAR
VERSION:2.0
PRODID:-//wp-events-plugin.com//7.2.3.1//EN
TZID:Europe/Paris
X-WR-TIMEZONE:Europe/Paris
BEGIN:VEVENT
UID:177@nectar-vibratoire.fr
DTSTART;TZID=Europe/Paris:20260502T093000
DTEND;TZID=Europe/Paris:20260503T173000
DTSTAMP:20260424T123338Z
URL:https://nectar-vibratoire.fr/events/stage-dinitiation-au-chant-diphoni
 que-le-2-3-mai-2026-en-perigord-vert-3/
SUMMARY:Stage d'initiation au Chant diphonique le 2 & 3 Mai 2026 en Périgo
 rd vert
DESCRIPTION:Bonne nouvelle\, belles personnes !\nDans un beau lieu\, havre 
 de verdure et de tranquillité\, à la jonction des départements de la Ch
 arente\, de la Haute-Vienne et de la Dordogne\, choyé par votre serviteur
 \, nous naviguerons pendant deux journées sur l'océan de nos sons\, et l
 es amenant à la lumière de notre conscience\, nous en ferons des "Sons d
 e Pouvoir".\nSi les inscriptions sont inférieures à 7 personnes\, nous f
 erons cette exploration intensive sur la journée du dimanche 3 mai\, de 9
 h30 à 17h30 (avec une pause déjeuner de 12h30à 14h)\, si les inscriptio
 ns sont supérieures à 6\, le samedi de 9h30 à 17h30 et le dimanche de 1
 0h à 17h.\nVous pouvez d'ores et déjà vous manifester pour réserver vo
 tre place.\nJe ne peux que vous encourager à partager sans retenue cet é
 vènement. La valorisation financière est souple et ne dois pas être un 
 obstacle à votre connexion à vos sons.\nL'adresse : 53\, les Dognons - 8
 7440 Maisonnais sur Tardoire  / mes coordonnées : 06 85 92 38 91\nJe sui
 s à votre disposition pour toutes questions\nMerci pour votre intérêt\,
  à l'immense plaisir de diphoner ensemble.\nÀ très vite\nCoeurdialement
 .\nÏéronimous\n\n\nhttps://maps.app.goo.gl/i53NrxHoQWfCfu6VA\n\n&nbsp\;
ATTACH;FMTTYPE=image/jpeg:https://nectar-vibratoire.fr/wp-content/uploads/
 2022/07/istockphoto-1253641879-612x612-1.jpg
CATEGORIES:Stage
END:VEVENT
BEGIN:VTIMEZONE
TZID:Europe/Paris
X-LIC-LOCATION:Europe/Paris
BEGIN:DAYLIGHT
DTSTART:20260329T030000
TZOFFSETFROM:+0100
TZOFFSETTO:+0200
TZNAME:CEST
END:DAYLIGHT
END:VTIMEZONE
END:VCALENDAR